BEGIN:VCALENDAR
VERSION:2.0
PRODID:-//ChamberMaster//Event Calendar 2.0//EN
METHOD:PUBLISH
X-PUBLISHED-TTL:P3D
REFRESH-INTERVAL:P3D
CALSCALE:GREGORIAN
BEGIN:VEVENT
DTSTART:20170405T000000Z
DTEND:20170405T023000Z
X-MICROSOFT-CDO-ALLDAYEVENT:FALSE
SUMMARY:2017 Annual General Meeting
DESCRIPTION:2017 PG Chamber Annual General Meeting\n\n\nWe are pleased to invite you\, a member in good standing\, to attend our 2017 Annual General Business Meeting. The Prince George Chamber of Commerce is very fortunate to have a number of prominent business individuals representing the diverse industries\, standing for election. As the "Voice for Business" in Prince George\, we work for you ~ the Member.\n\n\n\nIt is important to us that you are represented in the best way possible and that you play a part in the business of the Chamber of Commerce. Be sure to exercise your right to vote for the representative that you wish to have address business matters in the coming year.\n\n\n\nIf you are interested in nominating an individual\, or yourself\, for a place on the board please contact Christie Ray at 250.562.2454.\n\n\n\nBoard Nomination Application\n\n\n\nThank you very much for your support in helping make Prince George a great place to do business!\n\n\n\n2017 AGM PACKAGE
X-ALT-DESC;FMTTYPE=text/html:<h1 style="text-align: center\;"><br />\n<span style="color:#0000FF\;">2017&nbsp\;PG Chamber Annual General Meeting</span></h1>\n<br />\n<span style="line-height: 20.7999992370605px\;">We are pleased to invite you\, a member in good standing\, to attend our 2017 Annual General Business Meeting. The Prince George Chamber of Commerce is very fortunate to have a number of prominent business individuals representing the diverse industries\, standing for election. As the &quot\;Voice for Business&quot\; in Prince George\, we work for you ~ the Member.</span><br style="line-height: 20.7999992370605px\;" />\n<br style="line-height: 20.7999992370605px\;" />\n<span style="line-height: 20.7999992370605px\;">It is important to us that you are represented in the best way possible and that you play a part in the business of the Chamber of Commerce. Be sure to exercise your right to vote for the representative that you wish to have address business matters in the coming year.</span><br />\n<br />\nIf you are interested in nominating an individual\, or yourself\, for a place on the board please contact Christie Ray at 250.562.2454.<br />\n<br />\n<a href="https://chambermaster.blob.core.windows.net/userfiles/UserFiles/chambers/1166/File/2017-BODApplicationForm.docx">Board Nomination Application</a><br style="line-height: 20.7999992370605px\;" />\n<br style="line-height: 20.7999992370605px\;" />\n<span style="line-height: 20.7999992370605px\;">Thank you very much for your support in helping make Prince George a great place to do business!<br />\n<br />\n<a href="https://chambermaster.blob.core.windows.net/userfiles/UserFiles/chambers/1166/File/2017AGMPackage-small.pdf">2017 AGM PACKAGE</a> </span><br />\n<br />\n<br />\n<br />\n&nbsp\;
LOCATION:Sandman Signature 2990 Recplace Drive
UID:e.1166.1768
SEQUENCE:3
DTSTAMP:20260422T120740Z
URL:https://business.pgchamber.bc.ca/events/details/2017-annual-general-meeting-1768
END:VEVENT

END:VCALENDAR
