BEGIN:VCALENDAR
VERSION:2.0
PRODID:-//ChamberMaster//Event Calendar 2.0//EN
METHOD:PUBLISH
X-PUBLISHED-TTL:P3D
REFRESH-INTERVAL:P3D
CALSCALE:GREGORIAN
BEGIN:VEVENT
DTSTART:20140618T143000Z
DTEND:20140618T160000Z
X-MICROSOFT-CDO-ALLDAYEVENT:FALSE
SUMMARY:Breakfast Leadership Sessions - "Valuing Diversity - what do we need it for?"
DESCRIPTION:The Chamber invites you to Wake Up Your Business! with the "Breakfast Leadership Sessions" facilitated by Bill Quinn\, Professional Certified Coach and President of NuStride Executive Coaching. \n\n\n\nJoin us for breakfast on June 18th. Learn how valuing diversity can lead to improved service to clients and increased innovation with just a few simple steps explained by Bill Quinn.\n\n\n\nOutcomes:\n\n\n	Leaders have a safe space in an interactive and fun environment to learn\, share experiences and grow their leadership skills\n	The opportunity for managers to move to leaders\n	To build leadership skills into your new way of doing business\n	Enhance your network of peers\n\n\nSpace is limited\, register ASAP!
X-ALT-DESC;FMTTYPE=text/html:<p><br />\nThe Chamber invites you to<strong> Wake Up Your Business!</strong> with the &quot\;Breakfast Leadership Sessions&quot\; facilitated by Bill Quinn\, Professional Certified Coach and President of NuStride Executive Coaching.&nbsp\;<br />\n<br />\nJoin us for breakfast on June&nbsp\;18th. Learn how valuing diversity can lead to improved service to clients and increased innovation with just a few simple steps explained by Bill Quinn.<br />\n<br />\n<u><strong>Outcomes</strong>:</u></p>\n\n<ul>\n	<li><span style="font-size:12px\;"><span style="font-family:arial\;"><span style="position:relative\;top:1.0pt\;">L</span>eaders have a safe space in an interactive and fun environment to learn\, share experiences and grow their&nbsp\;leadership skills</span></span></li>\n	<li><span style="font-size:12px\;"><span style="font-family:arial\;"><span style="position:relative\;top:1.0pt\;">T</span>he opportunity for managers to move to leaders</span></span></li>\n	<li><span style="font-size:12px\;"><span style="font-family:arial\;"><span style="position:relative\;top:1.0pt\;">T</span>o build leadership skills into your new way of doing business</span></span></li>\n	<li><span style="font-size:12px\;"><span style="font-family:arial\;"><span style="position:relative\;top:1.0pt\;">E</span>nhance your network of peers</span></span></li>\n</ul>\n\n<p><em><strong>Space is limited\, register ASAP!</strong></em><br />\n&nbsp\;</p>\n
LOCATION:Chamber of Commerce Boardroom 890 Vancouver Street
UID:e.1166.174
SEQUENCE:3
DTSTAMP:20260422T075800Z
URL:https://business.pgchamber.bc.ca/events/details/breakfast-leadership-sessions-valuing-diversity-what-do-we-need-it-for-06-18-2014-174
END:VEVENT

END:VCALENDAR
