BEGIN:VCALENDAR
VERSION:2.0
PRODID:-//ChamberMaster//Event Calendar 2.0//EN
METHOD:PUBLISH
X-PUBLISHED-TTL:P3D
REFRESH-INTERVAL:P3D
CALSCALE:GREGORIAN
BEGIN:VEVENT
DTSTART:20170907T150000Z
DTEND:20170907T160000Z
X-MICROSOFT-CDO-ALLDAYEVENT:FALSE
SUMMARY:Coffee Hour at the Chamber
DESCRIPTION:Coffee Hour at the Chamber\n\n \n\nAfter a quiet summer\, Chamber events are back in full swing this September! Why not kick things off by dropping by the Chamber for a hot cup of coffee\, a tasty treat and some great networking?\n\n\n\nJoin us for a pre-work social event with our new Chamber CEO\, Erika Ewacha and members of the Chamber Board of Directors. This is your time to ask questions about your Chamber membership and hear the latest Chamber news from Erika & the Board. This is a great networking opportunity for new members and a chance for seasoned members to rejuvenate their relationship with the Chamber.\n\n \n\n*Space is limited - register today to save your seat!
X-ALT-DESC;FMTTYPE=text/html:<h2 style="text-align: center\; line-height: 15.6pt\;"><br />\n<br />\n<span style="color: rgb(75\, 0\, 130)\;"><span style="font-size: 26px\;"><span style="font-family: tahoma\;"><strong>Coffee Hour at the Chamber</strong></span></span></span><br />\n&nbsp\;</h2>\n\n<p style="font-family:verdana\; font-size:16pt\;"><span style="font-size:16px\;"><span style="font-family:verdana\;">After a quiet summer\, Chamber events are back in full swing this September! Why not kick things off by dropping by the Chamber for a hot cup of coffee\, a tasty treat and some great networking?<br />\n<br />\nJoin us for a pre-work social event with our new Chamber CEO\, Erika Ewacha and members of the Chamber Board of Directors. This is your time to ask questions about your Chamber membership and hear the latest Chamber news from Erika &amp\; the Board. This is a great networking opportunity for new members and a chance for seasoned members to rejuvenate their relationship with the Chamber.</span></span><br />\n&nbsp\;</p>\n\n<h3>*Space is limited - register today to save your seat!</h3>\n\n<p>&nbsp\;</p>\n
LOCATION:Prince George Chamber of Commerce 890 Vancouver St.
UID:e.1166.1786
SEQUENCE:3
DTSTAMP:20260419T214411Z
URL:https://business.pgchamber.bc.ca/events/details/coffee-hour-at-the-chamber-1786
END:VEVENT

END:VCALENDAR
