BEGIN:VCALENDAR
VERSION:2.0
PRODID:-//ChamberMaster//Event Calendar 2.0//EN
METHOD:PUBLISH
X-PUBLISHED-TTL:P3D
REFRESH-INTERVAL:P3D
CALSCALE:GREGORIAN
BEGIN:VEVENT
DTSTART:20180417T150000Z
DTEND:20180417T160000Z
X-MICROSOFT-CDO-ALLDAYEVENT:FALSE
SUMMARY:Coffee Hour at the Chamber
DESCRIPTION:Coffee Hour at the Chamber\n\n\n\nStart your day with a jolt of caffeine\, and get to know us! \n\n\n\nBefore work Tuesday\, April 17\, join Chamber CEO Todd Corrigall\, chamber staff\, and members of our Board of Directors for 'Coffee Hour'\n\n\n\nThis is your time to ask questions about your Chamber membership\, and how we can help your business thrive. Hear the latest Chamber news from Todd & the Board. This is a great networking opportunity for new members\, as well as a chance for seasoned members to reconnect with us and hear about the new initiatives the chamber has planned for the rest of 2018.
X-ALT-DESC;FMTTYPE=text/html:<h2 style="text-align: center\; line-height: 15.6pt\;"><br />\n<br />\n<span style="color:#40E0D0\;"><span style="font-size:26px\;"><span style="font-family: tahoma\;"><strong>Coffee Hour at the Chamber</strong></span></span></span></h2>\n\n<p style="line-height: 15.6pt\;"><br />\n<span style="border:none windowtext 1.0pt\;padding:0in\;"><span style="color:#444444\;"><span style="font-family:verdana\,sans-serif\;"><span style="font-size:10.5pt\;"><span style="font-style:inherit\;font-variant:inherit\;font-weight:inherit\;font-stretch:inherit\;bottom:auto\;box-sizing:content-box\;content:normal\;empty-cells:show\;letter-spacing:inherit\;max-height:none\;max-width:none\;min-height:initial\;min-width:initial\;opacity:1\;outline-offset:0px\;resize:none\;text-align:inherit\;text-indent:inherit\;text-overflow:clip\;text-transform:inherit\;white-space:inherit\;word-break:inherit\;word-spacing:inherit\;word-wrap:inherit\;background-position:initial\;background-size:initial\;background-repeat:initial\;background-attachment:initial\;background-origin:initial\;background-clip:initial\;border-radius:0px\;box-shadow:none\;overflow:visible\;right:auto\;visibility:inherit\;z-index:auto\;"><span style="color:inherit\;"><span style="font-size:inherit\;"><span style="font-variant-numeric:inherit\;font-stretch:inherit\;bottom:auto\;box-sizing:content-box\;content:normal\;empty-cells:show\;max-height:none\;max-width:none\;min-height:initial\;min-width:initial\;opacity:1\;outline-offset:0px\;resize:none\;text-overflow:clip\;word-break:inherit\;word-wrap:inherit\;background-position:initial\;background-size:initial\;background-repeat:initial\;background-attachment:initial\;background-origin:initial\;background-clip:initial\;border-radius:0px\;box-shadow:none\;overflow:visible\;right:auto\;visibility:inherit\;z-index:auto\;">Start your day with a jolt of caffeine\, and g</span></span></span></span><span style="font-variant-numeric:inherit\;font-stretch:inherit\;bottom:auto\;box-sizing:content-box\;content:normal\;empty-cells:show\;max-height:none\;max-width:none\;min-height:initial\;min-width:initial\;opacity:1\;outline-offset:0px\;resize:none\;text-overflow:clip\;word-break:inherit\;word-wrap:inherit\;background-position:initial\;background-size:initial\;background-repeat:initial\;background-attachment:initial\;background-origin:initial\;background-clip:initial\;border-radius:0px\;box-shadow:none\;overflow:visible\;right:auto\;visibility:inherit\;z-index:auto\;"><span style="font-style:inherit\;font-variant:inherit\;font-weight:inherit\;font-stretch:inherit\;bottom:auto\;box-sizing:content-box\;content:normal\;empty-cells:show\;letter-spacing:inherit\;max-height:none\;max-width:none\;min-height:initial\;min-width:initial\;opacity:1\;outline-offset:0px\;resize:none\;text-align:inherit\;text-indent:inherit\;text-overflow:clip\;text-transform:inherit\;white-space:inherit\;word-break:inherit\;word-spacing:inherit\;word-wrap:inherit\;background-position:initial\;background-size:initial\;background-repeat:initial\;background-attachment:initial\;background-origin:initial\;background-clip:initial\;border-radius:0px\;box-shadow:none\;overflow:visible\;right:auto\;visibility:inherit\;z-index:auto\;"><span style="color:inherit\;"><span style="font-size:inherit\;">et to know us!&nbsp\;</span></span></span></span></span></span></span></span><br />\n<br />\n<span style="border:none windowtext 1.0pt\;padding:0in\;"><span style="color:#444444\;"><span style="font-family:verdana\,sans-serif\;"><span style="font-size:10.5pt\;">Before work Tuesday\, April&nbsp\;17\, j</span></span></span></span><span style="border:none windowtext 1.0pt\;padding:0in\;"><span style="color:#444444\;"><span style="font-family:inherit\;"><span style="font-size:10.5pt\;"><span style="font-style:inherit\;font-variant:inherit\;font-weight:inherit\;font-stretch:inherit\;bottom:auto\;box-sizing:content-box\;content:normal\;empty-cells:show\;letter-spacing:inherit\;max-height:none\;max-width:none\;min-height:initial\;min-width:initial\;opacity:1\;outline-offset:0px\;resize:none\;text-align:inherit\;text-indent:inherit\;text-overflow:clip\;text-transform:inherit\;white-space:inherit\;word-break:inherit\;word-spacing:inherit\;word-wrap:inherit\;background-position:initial\;background-size:initial\;background-repeat:initial\;background-attachment:initial\;background-origin:initial\;background-clip:initial\;border-radius:0px\;box-shadow:none\;overflow:visible\;right:auto\;visibility:inherit\;z-index:auto\;"><span style="color:inherit\;"><span style="font-variant-numeric:inherit\;font-stretch:inherit\;bottom:auto\;box-sizing:content-box\;content:normal\;empty-cells:show\;max-height:none\;max-width:none\;min-height:initial\;min-width:initial\;opacity:1\;outline-offset:0px\;resize:none\;text-overflow:clip\;word-break:inherit\;word-wrap:inherit\;background-position:initial\;background-size:initial\;background-repeat:initial\;background-attachment:initial\;background-origin:initial\;background-clip:initial\;border-radius:0px\;box-shadow:none\;overflow:visible\;right:auto\;visibility:inherit\;z-index:auto\;"><span style="font-style:inherit\;font-variant:inherit\;font-weight:inherit\;font-stretch:inherit\;bottom:auto\;box-sizing:content-box\;content:normal\;empty-cells:show\;letter-spacing:inherit\;max-height:none\;max-width:none\;min-height:initial\;min-width:initial\;opacity:1\;outline-offset:0px\;resize:none\;text-align:inherit\;text-indent:inherit\;text-overflow:clip\;text-transform:inherit\;white-space:inherit\;word-break:inherit\;word-spacing:inherit\;word-wrap:inherit\;background-position:initial\;background-size:initial\;background-repeat:initial\;background-attachment:initial\;background-origin:initial\;background-clip:initial\;border-radius:0px\;box-shadow:none\;overflow:visible\;right:auto\;visibility:inherit\;z-index:auto\;"><span style="color:inherit\;"><span style="font-size:inherit\;"><span style="font-style:inherit\;font-variant:inherit\;font-weight:inherit\;font-stretch:inherit\;bottom:auto\;box-sizing:content-box\;content:normal\;empty-cells:show\;letter-spacing:inherit\;max-height:none\;max-width:none\;min-height:initial\;min-width:initial\;opacity:1\;outline-offset:0px\;resize:none\;text-align:inherit\;text-indent:inherit\;text-overflow:clip\;text-transform:inherit\;white-space:inherit\;word-break:inherit\;word-spacing:inherit\;word-wrap:inherit\;background-position:initial\;background-size:initial\;background-repeat:initial\;background-attachment:initial\;background-origin:initial\;background-clip:initial\;border-radius:0px\;box-shadow:none\;overflow:visible\;right:auto\;visibility:inherit\;z-index:auto\;"><span style="color:inherit\;"><span style="font-size:inherit\;">oin Chamber&nbsp\;CEO Todd Corrigall\, chamber staff\, and&nbsp\;</span></span></span><span style="font-style:inherit\;font-variant:inherit\;font-weight:inherit\;font-stretch:inherit\;bottom:auto\;box-sizing:content-box\;content:normal\;empty-cells:show\;letter-spacing:inherit\;max-height:none\;max-width:none\;opacity:1\;outline-offset:0px\;resize:none\;text-align:inherit\;text-indent:inherit\;text-overflow:clip\;text-transform:inherit\;white-space:inherit\;word-break:inherit\;word-spacing:inherit\;word-wrap:inherit\;border-radius:0px\;box-shadow:none\;overflow:visible\;right:auto\;visibility:inherit\;z-index:auto\;background-attachment:initial\;background-size:initial\;background-origin:initial\;background-clip:initial\;background-position:initial\;background-repeat:initial\;"><span style="color:inherit\;"><span style="font-size:inherit\;">members of our Board of Directors for &#39\;Coffee Hour&#39\;</span></span></span></span></span></span></span></span></span></span></span></span></span><br />\n<br style="bottom:auto\;box-sizing:content-box\;color:inherit\;content:normal\;empty-cells:show\;font-style:inherit\;font-variant:inherit\;font-weight:inherit\;font-stretch:inherit\;font-size:inherit\;letter-spacing:inherit\;line-height:inherit\;max-height:none\;max-width:none\;min-height:initial\;min-width:initial\;opacity:1\;outline-offset:0px\;resize:none\;text-align:inherit\;text-indent:inherit\;text-overflow:clip\;text-transform:inherit\;white-space:inherit\;word-break:inherit\;word-spacing:inherit\;word-wrap:inherit\;background-position:initial\;background-size:initial\;background-repeat:initial\;background-attachment:initial\;background-origin:initial\;background-clip:initial\;border-radius:0px\;float:none\;overflow:visible\;right:auto\;visibility:inherit\;z-index:auto\;" />\n<span style="border:none windowtext 1.0pt\;padding:0in\;"><span style="color:#444444\;"><span style="font-family:inherit\;"><span style="font-size:10.5pt\;"><span style="font-style:inherit\;font-variant:inherit\;font-weight:inherit\;font-stretch:inherit\;bottom:auto\;box-sizing:content-box\;content:normal\;empty-cells:show\;letter-spacing:inherit\;max-height:none\;max-width:none\;min-height:initial\;min-width:initial\;opacity:1\;outline-offset:0px\;resize:none\;text-align:inherit\;text-indent:inherit\;text-overflow:clip\;text-transform:inherit\;white-space:inherit\;word-break:inherit\;word-spacing:inherit\;word-wrap:inherit\;background-position:initial\;background-size:initial\;background-repeat:initial\;background-attachment:initial\;background-origin:initial\;background-clip:initial\;border-radius:0px\;box-shadow:none\;overflow:visible\;right:auto\;visibility:inherit\;z-index:auto\;"><span style="color:inherit\;"><span style="font-variant-numeric:inherit\;font-stretch:inherit\;bottom:auto\;box-sizing:content-box\;content:normal\;empty-cells:show\;max-height:none\;max-width:none\;min-height:initial\;min-width:initial\;opacity:1\;outline-offset:0px\;resize:none\;text-overflow:clip\;word-break:inherit\;word-wrap:inherit\;background-position:initial\;background-size:initial\;background-repeat:initial\;background-attachment:initial\;background-origin:initial\;background-clip:initial\;border-radius:0px\;box-shadow:none\;overflow:visible\;right:auto\;visibility:inherit\;z-index:auto\;"><span style="border:1pt none windowtext\;padding:0in\;"><span style="font-family:verdana\,sans-serif\;"><span style="font-size:10.5pt\;">This is your time&nbsp\;to ask questions about your&nbsp\;Chamber membership\,&nbsp\;</span></span></span><span style="border:1pt none windowtext\;padding:0in\;"><span style="font-family:verdana\,sans-serif\;"><span style="font-size:10.5pt\;">and how we can help your business thrive. Hear&nbsp\;the latest Chamber news from Todd &amp\; the Board.&nbsp\;This is a great networking&nbsp\;opportunity for new members\, as well as a chance for seasoned&nbsp\;members to reconnect with us and hear about the new initiatives the chamber has planned for the rest of 2018.</span></span></span></span></span></span></span></span></span></span><br />\n&nbsp\;</p>\n
LOCATION:Prince George Chamber of Commerce 890 Vancouver St.
UID:e.1166.1810
SEQUENCE:3
DTSTAMP:20260421T195724Z
URL:https://business.pgchamber.bc.ca/events/details/coffee-hour-at-the-chamber-1810
END:VEVENT

END:VCALENDAR
